BEGIN:VCALENDAR
VERSION:2.0
PRODID:-//Greater Connecticut Youth Orchestras - ECPv6.15.18//NONSGML v1.0//EN
CALSCALE:GREGORIAN
METHOD:PUBLISH
X-WR-CALNAME:Greater Connecticut Youth Orchestras
X-ORIGINAL-URL:https://gctyo.org
X-WR-CALDESC:Events for Greater Connecticut Youth Orchestras
REFRESH-INTERVAL;VALUE=DURATION:PT1H
X-Robots-Tag:noindex
X-PUBLISHED-TTL:PT1H
BEGIN:VTIMEZONE
TZID:America/New_York
BEGIN:DAYLIGHT
TZOFFSETFROM:-0500
TZOFFSETTO:-0400
TZNAME:EDT
DTSTART:20180311T070000
END:DAYLIGHT
BEGIN:STANDARD
TZOFFSETFROM:-0400
TZOFFSETTO:-0500
TZNAME:EST
DTSTART:20181104T060000
END:STANDARD
BEGIN:DAYLIGHT
TZOFFSETFROM:-0500
TZOFFSETTO:-0400
TZNAME:EDT
DTSTART:20190310T070000
END:DAYLIGHT
BEGIN:STANDARD
TZOFFSETFROM:-0400
TZOFFSETTO:-0500
TZNAME:EST
DTSTART:20191103T060000
END:STANDARD
BEGIN:DAYLIGHT
TZOFFSETFROM:-0500
TZOFFSETTO:-0400
TZNAME:EDT
DTSTART:20200308T070000
END:DAYLIGHT
BEGIN:STANDARD
TZOFFSETFROM:-0400
TZOFFSETTO:-0500
TZNAME:EST
DTSTART:20201101T060000
END:STANDARD
BEGIN:DAYLIGHT
TZOFFSETFROM:-0500
TZOFFSETTO:-0400
TZNAME:EDT
DTSTART:20210314T070000
END:DAYLIGHT
BEGIN:STANDARD
TZOFFSETFROM:-0400
TZOFFSETTO:-0500
TZNAME:EST
DTSTART:20211107T060000
END:STANDARD
BEGIN:DAYLIGHT
TZOFFSETFROM:-0500
TZOFFSETTO:-0400
TZNAME:EDT
DTSTART:20220313T070000
END:DAYLIGHT
BEGIN:STANDARD
TZOFFSETFROM:-0400
TZOFFSETTO:-0500
TZNAME:EST
DTSTART:20221106T060000
END:STANDARD
BEGIN:DAYLIGHT
TZOFFSETFROM:-0500
TZOFFSETTO:-0400
TZNAME:EDT
DTSTART:20230312T070000
END:DAYLIGHT
BEGIN:STANDARD
TZOFFSETFROM:-0400
TZOFFSETTO:-0500
TZNAME:EST
DTSTART:20231105T060000
END:STANDARD
BEGIN:DAYLIGHT
TZOFFSETFROM:-0500
TZOFFSETTO:-0400
TZNAME:EDT
DTSTART:20240310T070000
END:DAYLIGHT
BEGIN:STANDARD
TZOFFSETFROM:-0400
TZOFFSETTO:-0500
TZNAME:EST
DTSTART:20241103T060000
END:STANDARD
BEGIN:DAYLIGHT
TZOFFSETFROM:-0500
TZOFFSETTO:-0400
TZNAME:EDT
DTSTART:20250309T070000
END:DAYLIGHT
BEGIN:STANDARD
TZOFFSETFROM:-0400
TZOFFSETTO:-0500
TZNAME:EST
DTSTART:20251102T060000
END:STANDARD
BEGIN:DAYLIGHT
TZOFFSETFROM:-0500
TZOFFSETTO:-0400
TZNAME:EDT
DTSTART:20260308T070000
END:DAYLIGHT
BEGIN:STANDARD
TZOFFSETFROM:-0400
TZOFFSETTO:-0500
TZNAME:EST
DTSTART:20261101T060000
END:STANDARD
END:VTIMEZONE
BEGIN:VEVENT
DTSTART;TZID=America/New_York:20251105T160000
DTEND;TZID=America/New_York:20251105T200000
DTSTAMP:20260423T072838
CREATED:20250813T031603Z
LAST-MODIFIED:20250813T031603Z
UID:15016-1762358400-1762372800@gctyo.org
SUMMARY:New Student Auditions
DESCRIPTION:
URL:https://gctyo.org/event/new-student-auditions-10/
CATEGORIES:Auditions
END:VEVENT
BEGIN:VEVENT
DTSTART;TZID=America/New_York:20250611T160000
DTEND;TZID=America/New_York:20250611T210000
DTSTAMP:20260423T072838
CREATED:20240618T002609Z
LAST-MODIFIED:20240618T002609Z
UID:12252-1749657600-1749675600@gctyo.org
SUMMARY:New Student Auditions
DESCRIPTION:
URL:https://gctyo.org/event/new-student-auditions-9/
CATEGORIES:Auditions
END:VEVENT
BEGIN:VEVENT
DTSTART;TZID=America/New_York:20250125T130000
DTEND;TZID=America/New_York:20250125T160000
DTSTAMP:20260423T072838
CREATED:20240618T001236Z
LAST-MODIFIED:20240618T001236Z
UID:12241-1737810000-1737820800@gctyo.org
SUMMARY:Concerto Competition - Final Round
DESCRIPTION:
URL:https://gctyo.org/event/concerto-competition-final-round-3/
LOCATION:Pequot Library\, 720 Pequot Ave.\, Southport\, CT\, United States
CATEGORIES:Auditions
END:VEVENT
BEGIN:VEVENT
DTSTART;TZID=America/New_York:20241113T180000
DTEND;TZID=America/New_York:20241113T210000
DTSTAMP:20260423T072838
CREATED:20240617T234345Z
LAST-MODIFIED:20240617T234404Z
UID:12220-1731520800-1731531600@gctyo.org
SUMMARY:New Student Auditions
DESCRIPTION:
URL:https://gctyo.org/event/new-student-auditions-8/
CATEGORIES:Auditions
END:VEVENT
BEGIN:VEVENT
DTSTART;TZID=America/New_York:20241106T180000
DTEND;TZID=America/New_York:20241106T210000
DTSTAMP:20260423T072838
CREATED:20240617T234216Z
LAST-MODIFIED:20240617T234216Z
UID:12218-1730916000-1730926800@gctyo.org
SUMMARY:Concerto Competition - Preliminary Round
DESCRIPTION:
URL:https://gctyo.org/event/concerto-competition-preliminary-round-3/
CATEGORIES:Auditions
END:VEVENT
BEGIN:VEVENT
DTSTART;TZID=America/New_York:20240829T160000
DTEND;TZID=America/New_York:20240829T210000
DTSTAMP:20260423T072838
CREATED:20240604T005654Z
LAST-MODIFIED:20240604T005654Z
UID:12128-1724947200-1724965200@gctyo.org
SUMMARY:Auditions
DESCRIPTION:
URL:https://gctyo.org/event/auditions-8/
LOCATION:Black Rock Church
CATEGORIES:Auditions
END:VEVENT
BEGIN:VEVENT
DTSTART;TZID=America/New_York:20240828T160000
DTEND;TZID=America/New_York:20240828T210000
DTSTAMP:20260423T072838
CREATED:20240604T005552Z
LAST-MODIFIED:20240604T005552Z
UID:12127-1724860800-1724878800@gctyo.org
SUMMARY:Auditions
DESCRIPTION:
URL:https://gctyo.org/event/auditions-7/
LOCATION:Black Rock Church
CATEGORIES:Auditions
END:VEVENT
BEGIN:VEVENT
DTSTART;TZID=America/New_York:20240827T160000
DTEND;TZID=America/New_York:20240827T210000
DTSTAMP:20260423T072838
CREATED:20240604T005456Z
LAST-MODIFIED:20240604T005456Z
UID:12126-1724774400-1724792400@gctyo.org
SUMMARY:Auditions
DESCRIPTION:
URL:https://gctyo.org/event/auditions-6/
LOCATION:Black Rock Church
CATEGORIES:Auditions
END:VEVENT
BEGIN:VEVENT
DTSTART;TZID=America/New_York:20240826T160000
DTEND;TZID=America/New_York:20240826T210000
DTSTAMP:20260423T072838
CREATED:20240604T005340Z
LAST-MODIFIED:20240604T005357Z
UID:12125-1724688000-1724706000@gctyo.org
SUMMARY:Auditions
DESCRIPTION:
URL:https://gctyo.org/event/auditions-5/
LOCATION:Black Rock Church
CATEGORIES:Auditions
END:VEVENT
BEGIN:VEVENT
DTSTART;TZID=America/New_York:20240824T090000
DTEND;TZID=America/New_York:20240824T170000
DTSTAMP:20260423T072838
CREATED:20240604T005234Z
LAST-MODIFIED:20240604T005234Z
UID:12124-1724490000-1724518800@gctyo.org
SUMMARY:Auditions - Violin Only
DESCRIPTION:
URL:https://gctyo.org/event/auditions-violin-only/
LOCATION:Black Rock Church
CATEGORIES:Auditions
END:VEVENT
BEGIN:VEVENT
DTSTART;TZID=America/New_York:20240610T160000
DTEND;TZID=America/New_York:20240610T210000
DTSTAMP:20260423T072838
CREATED:20230707T152638Z
LAST-MODIFIED:20230707T152638Z
UID:9875-1718035200-1718053200@gctyo.org
SUMMARY:New Student Auditions
DESCRIPTION:
URL:https://gctyo.org/event/new-student-auditions-7/
CATEGORIES:Auditions
END:VEVENT
BEGIN:VEVENT
DTSTART;TZID=America/New_York:20231115T180000
DTEND;TZID=America/New_York:20231115T210000
DTSTAMP:20260423T072838
CREATED:20230706T202840Z
LAST-MODIFIED:20230706T202840Z
UID:9825-1700071200-1700082000@gctyo.org
SUMMARY:Fall New Student Auditions
DESCRIPTION:Beginning 6 PM @ Faust Harrison Pianos
URL:https://gctyo.org/event/fall-new-student-auditions/
LOCATION:Faust Harrison Pianos\, 322 Black Rock Turnpike\, Fairfield\, CT\, 06825\, United States
CATEGORIES:Auditions
END:VEVENT
BEGIN:VEVENT
DTSTART;TZID=America/New_York:20231108T180000
DTEND;TZID=America/New_York:20231108T210000
DTSTAMP:20260423T072838
CREATED:20230706T202353Z
LAST-MODIFIED:20230706T202353Z
UID:9822-1699466400-1699477200@gctyo.org
SUMMARY:Concerto Competition\, Preliminary Round
DESCRIPTION:@ Faust Harrison Piano\, 6 PM
URL:https://gctyo.org/event/concerto-competition-preliminary-round-2/
LOCATION:Faust Harrison Pianos\, 322 Black Rock Turnpike\, Fairfield\, CT\, 06825\, United States
CATEGORIES:Auditions
END:VEVENT
BEGIN:VEVENT
DTSTART;TZID=America/New_York:20230909T083000
DTEND;TZID=America/New_York:20230909T140000
DTSTAMP:20260423T072838
CREATED:20230705T181033Z
LAST-MODIFIED:20230705T181407Z
UID:9797-1694248200-1694268000@gctyo.org
SUMMARY:First Day 2023-24 Rehearsals
DESCRIPTION:Student and Parent Meetings will be included.  Chamber Music Auditions will be held.
URL:https://gctyo.org/event/first-day-2023-24-rehearsals/
LOCATION:Ludlowe MS & HS campus\, 785 Unquowa Rd.\, Fairfield\, CT
CATEGORIES:Auditions,Rehearsals
END:VEVENT
BEGIN:VEVENT
DTSTART;TZID=America/New_York:20230831T160000
DTEND;TZID=America/New_York:20230831T210000
DTSTAMP:20260423T072838
CREATED:20230705T180155Z
LAST-MODIFIED:20230705T180155Z
UID:9796-1693497600-1693515600@gctyo.org
SUMMARY:GCTYO Auditions
DESCRIPTION:4 PM-9 PM @ Black Rock Church\, Fairfield
URL:https://gctyo.org/event/gctyo-auditions-10/
LOCATION:Black Rock Church
CATEGORIES:Auditions
END:VEVENT
BEGIN:VEVENT
DTSTART;TZID=America/New_York:20230830T160000
DTEND;TZID=America/New_York:20230830T210000
DTSTAMP:20260423T072838
CREATED:20230705T180116Z
LAST-MODIFIED:20230705T180116Z
UID:9795-1693411200-1693429200@gctyo.org
SUMMARY:GCTYO Auditions
DESCRIPTION:4 PM-9 PM @ Black Rock Church\, Fairfield
URL:https://gctyo.org/event/gctyo-auditions-9/
LOCATION:Black Rock Church
CATEGORIES:Auditions
END:VEVENT
BEGIN:VEVENT
DTSTART;TZID=America/New_York:20230829T160000
DTEND;TZID=America/New_York:20230829T210000
DTSTAMP:20260423T072838
CREATED:20230705T175953Z
LAST-MODIFIED:20230705T175953Z
UID:9793-1693324800-1693342800@gctyo.org
SUMMARY:GCTYO Auditions
DESCRIPTION:4 PM-9 PM @ Black Rock Church\, Fairfield
URL:https://gctyo.org/event/gctyo-auditions-8/
LOCATION:Black Rock Church
CATEGORIES:Auditions
END:VEVENT
BEGIN:VEVENT
DTSTART;TZID=America/New_York:20230828T160000
DTEND;TZID=America/New_York:20230828T210000
DTSTAMP:20260423T072838
CREATED:20230705T175915Z
LAST-MODIFIED:20230705T180032Z
UID:9792-1693238400-1693256400@gctyo.org
SUMMARY:GCTYO Auditions
DESCRIPTION:4 PM-9 PM @ Black Rock Church\, Fairfield
URL:https://gctyo.org/event/gctyo-auditions-7/
LOCATION:Black Rock Church
CATEGORIES:Auditions
END:VEVENT
BEGIN:VEVENT
DTSTART;TZID=America/New_York:20230826T080000
DTEND;TZID=America/New_York:20230826T170000
DTSTAMP:20260423T072838
CREATED:20230705T175654Z
LAST-MODIFIED:20230705T175654Z
UID:9791-1693036800-1693069200@gctyo.org
SUMMARY:GCTYO Auditions
DESCRIPTION:Violins Only – 9 AM- 5 PM @ Black Rock Church\, Fairfield
URL:https://gctyo.org/event/gctyo-auditions-6/
LOCATION:Black Rock Church
CATEGORIES:Auditions
END:VEVENT
BEGIN:VEVENT
DTSTART;TZID=America/New_York:20230612T160000
DTEND;TZID=America/New_York:20230612T190000
DTSTAMP:20260423T072838
CREATED:20220715T175613Z
LAST-MODIFIED:20221208T130428Z
UID:7013-1686585600-1686596400@gctyo.org
SUMMARY:New Student Auditions
DESCRIPTION:
URL:https://gctyo.org/event/new-student-auditions-5/
CATEGORIES:Auditions
END:VEVENT
BEGIN:VEVENT
DTSTART;TZID=America/New_York:20221116T180000
DTEND;TZID=America/New_York:20221116T200000
DTSTAMP:20260423T072838
CREATED:20220923T183808Z
LAST-MODIFIED:20221003T203536Z
UID:7895-1668621600-1668628800@gctyo.org
SUMMARY:New Student Auditions
DESCRIPTION:
URL:https://gctyo.org/event/new-student-auditions-6/
LOCATION:Faust Harrison Pianos\, 322 Black Rock Turnpike\, Fairfield\, CT\, 06825\, United States
CATEGORIES:Auditions
END:VEVENT
BEGIN:VEVENT
DTSTART;TZID=America/New_York:20221109T180000
DTEND;TZID=America/New_York:20221109T200000
DTSTAMP:20260423T072838
CREATED:20220714T193846Z
LAST-MODIFIED:20220714T193846Z
UID:6940-1668016800-1668024000@gctyo.org
SUMMARY:Concerto Competition Preliminary Round
DESCRIPTION:
URL:https://gctyo.org/event/concerto-competition-preliminary-round/
LOCATION:Faust Harrison Pianos\, 322 Black Rock Turnpike\, Fairfield\, CT\, 06825\, United States
CATEGORIES:Auditions
END:VEVENT
BEGIN:VEVENT
DTSTART;TZID=America/New_York:20221001T083000
DTEND;TZID=America/New_York:20221001T140000
DTSTAMP:20260423T072838
CREATED:20220714T192825Z
LAST-MODIFIED:20220714T192825Z
UID:6928-1664613000-1664632800@gctyo.org
SUMMARY:Rehearsals
DESCRIPTION:Advanced Chamber Music Auditions for Principal & Philharmonic musicians \nParent meeting for Intermediate Chamber Musicians
URL:https://gctyo.org/event/rehearsals-57/
LOCATION:Ludlowe MS & HS campus\, 785 Unquowa Rd.\, Fairfield\, CT
CATEGORIES:Auditions,Rehearsals
END:VEVENT
BEGIN:VEVENT
DTSTART;TZID=America/New_York:20220924T083000
DTEND;TZID=America/New_York:20220924T140000
DTSTAMP:20260423T072838
CREATED:20220714T191434Z
LAST-MODIFIED:20220714T191434Z
UID:6924-1664008200-1664028000@gctyo.org
SUMMARY:Rehearsals
DESCRIPTION:Philharmonic will rehearse at Black Rock Church\, 3685 Black Rock Tpke.\, Fairfield\, CT\, 9am-4pm. \nIntermediate Chamber Music Auditions held – for all musicians except Principal & Philharmonic.
URL:https://gctyo.org/event/rehearsals-56/
LOCATION:Ludlowe MS & HS campus\, 785 Unquowa Rd.\, Fairfield\, CT
CATEGORIES:Auditions,Rehearsals
END:VEVENT
BEGIN:VEVENT
DTSTART;TZID=America/New_York:20220901T160000
DTEND;TZID=America/New_York:20220901T210000
DTSTAMP:20260423T072838
CREATED:20220714T182637Z
LAST-MODIFIED:20220714T182637Z
UID:6915-1662048000-1662066000@gctyo.org
SUMMARY:GCTYO Auditions
DESCRIPTION:
URL:https://gctyo.org/event/gctyo-auditions-5/
LOCATION:Black Rock Church
CATEGORIES:Auditions
END:VEVENT
BEGIN:VEVENT
DTSTART;TZID=America/New_York:20220831T160000
DTEND;TZID=America/New_York:20220831T210000
DTSTAMP:20260423T072838
CREATED:20220714T182508Z
LAST-MODIFIED:20220715T172351Z
UID:6913-1661961600-1661979600@gctyo.org
SUMMARY:GCTYO Auditions
DESCRIPTION:
URL:https://gctyo.org/event/gctyo-auditions-4/
LOCATION:Black Rock Church
CATEGORIES:Auditions
END:VEVENT
BEGIN:VEVENT
DTSTART;TZID=America/New_York:20220830T160000
DTEND;TZID=America/New_York:20220830T210000
DTSTAMP:20260423T072838
CREATED:20220714T182413Z
LAST-MODIFIED:20220715T172255Z
UID:6911-1661875200-1661893200@gctyo.org
SUMMARY:GCTYO Auditions
DESCRIPTION:
URL:https://gctyo.org/event/gctyo-auditions-3/
LOCATION:Black Rock Church
CATEGORIES:Auditions
END:VEVENT
BEGIN:VEVENT
DTSTART;TZID=America/New_York:20220829T160000
DTEND;TZID=America/New_York:20220829T210000
DTSTAMP:20260423T072838
CREATED:20220714T182257Z
LAST-MODIFIED:20220715T172210Z
UID:6909-1661788800-1661806800@gctyo.org
SUMMARY:GCTYO Auditions
DESCRIPTION:
URL:https://gctyo.org/event/gctyo-auditions-2/
LOCATION:Black Rock Church
CATEGORIES:Auditions
END:VEVENT
BEGIN:VEVENT
DTSTART;TZID=America/New_York:20220827T090000
DTEND;TZID=America/New_York:20220827T170000
DTSTAMP:20260423T072838
CREATED:20220622T183355Z
LAST-MODIFIED:20220715T172130Z
UID:6812-1661590800-1661619600@gctyo.org
SUMMARY:GCTYO Auditions
DESCRIPTION:
URL:https://gctyo.org/event/gctyo-auditions/
LOCATION:Black Rock Church
CATEGORIES:Auditions
END:VEVENT
BEGIN:VEVENT
DTSTART;TZID=America/New_York:20200616T160000
DTEND;TZID=America/New_York:20200616T210000
DTSTAMP:20260423T072838
CREATED:20190924T175849Z
LAST-MODIFIED:20200530T014458Z
UID:1677-1592323200-1592341200@gctyo.org
SUMMARY:NEW STUDENT AUDITIONS
DESCRIPTION:
URL:https://gctyo.org/event/new-student-auditions/
CATEGORIES:Auditions
END:VEVENT
BEGIN:VEVENT
DTSTART;TZID=America/New_York:20191005T120000
DTEND;TZID=America/New_York:20191005T130000
DTSTAMP:20260423T072838
CREATED:20190924T164435Z
LAST-MODIFIED:20191002T234050Z
UID:1540-1570276800-1570280400@gctyo.org
SUMMARY:Chamber Orchestra Auditions
DESCRIPTION:
URL:https://gctyo.org/event/chamber-orchestra-auditions/
CATEGORIES:Auditions
END:VEVENT
END:VCALENDAR