BEGIN:VCALENDAR
VERSION:2.0
PRODID:-//Greater Connecticut Youth Orchestras - ECPv6.15.18//NONSGML v1.0//EN
CALSCALE:GREGORIAN
METHOD:PUBLISH
X-WR-CALNAME:Greater Connecticut Youth Orchestras
X-ORIGINAL-URL:https://gctyo.org
X-WR-CALDESC:Events for Greater Connecticut Youth Orchestras
REFRESH-INTERVAL;VALUE=DURATION:PT1H
X-Robots-Tag:noindex
X-PUBLISHED-TTL:PT1H
BEGIN:VTIMEZONE
TZID:America/New_York
BEGIN:DAYLIGHT
TZOFFSETFROM:-0500
TZOFFSETTO:-0400
TZNAME:EDT
DTSTART:20240310T070000
END:DAYLIGHT
BEGIN:STANDARD
TZOFFSETFROM:-0400
TZOFFSETTO:-0500
TZNAME:EST
DTSTART:20241103T060000
END:STANDARD
BEGIN:DAYLIGHT
TZOFFSETFROM:-0500
TZOFFSETTO:-0400
TZNAME:EDT
DTSTART:20250309T070000
END:DAYLIGHT
BEGIN:STANDARD
TZOFFSETFROM:-0400
TZOFFSETTO:-0500
TZNAME:EST
DTSTART:20251102T060000
END:STANDARD
BEGIN:DAYLIGHT
TZOFFSETFROM:-0500
TZOFFSETTO:-0400
TZNAME:EDT
DTSTART:20260308T070000
END:DAYLIGHT
BEGIN:STANDARD
TZOFFSETFROM:-0400
TZOFFSETTO:-0500
TZNAME:EST
DTSTART:20261101T060000
END:STANDARD
END:VTIMEZONE
BEGIN:VEVENT
DTSTART;TZID=America/New_York:20250228T160000
DTEND;TZID=America/New_York:20250228T210000
DTSTAMP:20260422T125327
CREATED:20240618T001939Z
LAST-MODIFIED:20240618T001939Z
UID:12246-1740758400-1740776400@gctyo.org
SUMMARY:Winter Concert Dress Rehearsals
DESCRIPTION:See Schedule for Orchestra date and time of rehearsals.
URL:https://gctyo.org/event/winter-concert-dress-rehearsals-3/
LOCATION:The Klein\, 910 Fairfield Ave.\, Bridgeport\, CT\, United States
CATEGORIES:Rehearsals
END:VEVENT
END:VCALENDAR