BEGIN:VCALENDAR
VERSION:2.0
PRODID:-//Greater Connecticut Youth Orchestras - ECPv6.15.18//NONSGML v1.0//EN
CALSCALE:GREGORIAN
METHOD:PUBLISH
X-ORIGINAL-URL:https://gctyo.org
X-WR-CALDESC:Events for Greater Connecticut Youth Orchestras
REFRESH-INTERVAL;VALUE=DURATION:PT1H
X-Robots-Tag:noindex
X-PUBLISHED-TTL:PT1H
BEGIN:VTIMEZONE
TZID:America/New_York
BEGIN:DAYLIGHT
TZOFFSETFROM:-0500
TZOFFSETTO:-0400
TZNAME:EDT
DTSTART:20240310T070000
END:DAYLIGHT
BEGIN:STANDARD
TZOFFSETFROM:-0400
TZOFFSETTO:-0500
TZNAME:EST
DTSTART:20241103T060000
END:STANDARD
BEGIN:DAYLIGHT
TZOFFSETFROM:-0500
TZOFFSETTO:-0400
TZNAME:EDT
DTSTART:20250309T070000
END:DAYLIGHT
BEGIN:STANDARD
TZOFFSETFROM:-0400
TZOFFSETTO:-0500
TZNAME:EST
DTSTART:20251102T060000
END:STANDARD
BEGIN:DAYLIGHT
TZOFFSETFROM:-0500
TZOFFSETTO:-0400
TZNAME:EDT
DTSTART:20260308T070000
END:DAYLIGHT
BEGIN:STANDARD
TZOFFSETFROM:-0400
TZOFFSETTO:-0500
TZNAME:EST
DTSTART:20261101T060000
END:STANDARD
END:VTIMEZONE
BEGIN:VEVENT
DTSTART;TZID=America/New_York:20250222T083000
DTEND;TZID=America/New_York:20250222T140000
DTSTAMP:20260422T142716
CREATED:20240618T001758Z
LAST-MODIFIED:20240618T001758Z
UID:12245-1740213000-1740232800@gctyo.org
SUMMARY:GCTYO Rehearsals
DESCRIPTION:
URL:https://gctyo.org/event/gctyo-rehearsals-14/
LOCATION:Ludlowe MS & HS campus\, 785 Unquowa Rd.\, Fairfield\, CT
CATEGORIES:Rehearsals
END:VEVENT
BEGIN:VEVENT
DTSTART;TZID=America/New_York:20250222T123000
DTEND;TZID=America/New_York:20250222T133000
DTSTAMP:20260422T142716
CREATED:20250218T163506Z
LAST-MODIFIED:20250218T163506Z
UID:13888-1740227400-1740231000@gctyo.org
SUMMARY:Jeffrey & Gabriel Kahane presentation
DESCRIPTION:Thanks to our friends at Orchestra Lumos\, GCTYO families will have a chance to meet piano virtuoso Jeffrey Kahane and his son\, composer Gabriel Kahane\, after our Feb. 22 rehearsals (12:30-1:30 PM) in the RLMS auditorium. \nThis is an amazing opportunity to learn from successful professional musicians about their experiences in the music world and to get a taste of Mr. Kahane’s piano presence.
URL:https://gctyo.org/event/jeffrey-gabriel-kahane-presentation/
LOCATION:Ludlowe MS & HS campus\, 785 Unquowa Rd.\, Fairfield\, CT
END:VEVENT
END:VCALENDAR