BEGIN:VCALENDAR
VERSION:2.0
PRODID:-//Greater Connecticut Youth Orchestras - ECPv6.15.18//NONSGML v1.0//EN
CALSCALE:GREGORIAN
METHOD:PUBLISH
X-WR-CALNAME:Greater Connecticut Youth Orchestras
X-ORIGINAL-URL:https://gctyo.org
X-WR-CALDESC:Events for Greater Connecticut Youth Orchestras
REFRESH-INTERVAL;VALUE=DURATION:PT1H
X-Robots-Tag:noindex
X-PUBLISHED-TTL:PT1H
BEGIN:VTIMEZONE
TZID:America/New_York
BEGIN:DAYLIGHT
TZOFFSETFROM:-0500
TZOFFSETTO:-0400
TZNAME:EDT
DTSTART:20220313T070000
END:DAYLIGHT
BEGIN:STANDARD
TZOFFSETFROM:-0400
TZOFFSETTO:-0500
TZNAME:EST
DTSTART:20221106T060000
END:STANDARD
BEGIN:DAYLIGHT
TZOFFSETFROM:-0500
TZOFFSETTO:-0400
TZNAME:EDT
DTSTART:20230312T070000
END:DAYLIGHT
BEGIN:STANDARD
TZOFFSETFROM:-0400
TZOFFSETTO:-0500
TZNAME:EST
DTSTART:20231105T060000
END:STANDARD
BEGIN:DAYLIGHT
TZOFFSETFROM:-0500
TZOFFSETTO:-0400
TZNAME:EDT
DTSTART:20240310T070000
END:DAYLIGHT
BEGIN:STANDARD
TZOFFSETFROM:-0400
TZOFFSETTO:-0500
TZNAME:EST
DTSTART:20241103T060000
END:STANDARD
END:VTIMEZONE
BEGIN:VEVENT
DTSTART;TZID=America/New_York:20230506T083000
DTEND;TZID=America/New_York:20230506T140000
DTSTAMP:20260424T041347
CREATED:20220715T175114Z
LAST-MODIFIED:20230323T142409Z
UID:7003-1683361800-1683381600@gctyo.org
SUMMARY:Rehearsals
DESCRIPTION:NEW REGULAR REHEARSAL SCHEDULE  \nParent Meeting & Vote for new Board Members – 9:00 am \nOpen Rehearsals for Prospective Families – 10:00-11:15 \nMasterclass with Maestro Hisey – 12:30-1:15\, Middle School Auditorium \n 
URL:https://gctyo.org/event/rehearsals-79/
LOCATION:Ludlowe MS & HS campus\, 785 Unquowa Rd.\, Fairfield\, CT
CATEGORIES:Rehearsals
END:VEVENT
BEGIN:VEVENT
DTSTART;TZID=America/New_York:20230506T100000
DTEND;TZID=America/New_York:20230506T111500
DTSTAMP:20260424T041347
CREATED:20221009T144922Z
LAST-MODIFIED:20221009T144922Z
UID:8024-1683367200-1683371700@gctyo.org
SUMMARY:Open Rehearsals for Prospective Families
DESCRIPTION:
URL:https://gctyo.org/event/open-rehearsals-for-prospective-families/
LOCATION:Ludlowe MS & HS campus\, 785 Unquowa Rd.\, Fairfield\, CT
CATEGORIES:Rehearsals
END:VEVENT
END:VCALENDAR